BEGIN:VCALENDAR
VERSION:2.0
METHOD:PUBLISH
PRODID:- PBCS IT-News //NONSGML Events //EN
CALSCALE:GREGORIAN
X-WR-CALNAME:ICAL-BLOG
BEGIN:VEVENT
UID:e2e8c7ba-de7f-4ab3-8593-a2377a5204ec
DTSTAMP:20260424T150239Z
CREATED:20260424T150239Z
SUMMARY:Quizfrage 4477
DESCRIPTION:https://wp.pbcs.de/question/quizfrage-4477/ - Artikel vom: Mo.\, 29. September 2025\, 19:09:30 - Wie lautet das Flughafenkürzel von: Phuket / Thailand
LOCATION:https://wp.pbcs.de
CATEGORIES:Gelbe Kategorie
TRANSP:TRANSPARENT
X-MICROSOFT-CDO-BUSYSTATUS:FREE
SEQUENCE:0
CLASS:PUBLIC
PRIORITY:1
DTSTART:20260424T070000Z
DTEND:20260424T080000Z
BEGIN:VALARM
TRIGGER:-PT30M
ACTION:DISPLAY
DESCRIPTION:Reminder for Quizfrage 4477
END:VALARM
END:VEVENT
END:VCALENDAR
