BEGIN:VCALENDAR
VERSION:2.0
METHOD:PUBLISH
PRODID:- PBCS IT-News //NONSGML Events //EN
CALSCALE:GREGORIAN
X-WR-CALNAME:ICAL-BLOG
BEGIN:VEVENT
UID:6ba42218-f347-461d-82eb-67e7f521d15d
DTSTAMP:20260424T152810Z
CREATED:20260424T152810Z
SUMMARY:Quizfrage 4446
DESCRIPTION:https://wp.pbcs.de/question/quizfrage-4446/ - Artikel vom: Mo.\, 29. September 2025\, 19:09:29 - Wie lautet das Flughafenkürzel von: St. Petersburg / Russland
LOCATION:https://wp.pbcs.de
CATEGORIES:Gelbe Kategorie
TRANSP:TRANSPARENT
X-MICROSOFT-CDO-BUSYSTATUS:FREE
SEQUENCE:0
CLASS:PUBLIC
PRIORITY:1
DTSTART:20260425T070000Z
DTEND:20260425T080000Z
BEGIN:VALARM
TRIGGER:-PT30M
ACTION:DISPLAY
DESCRIPTION:Reminder for Quizfrage 4446
END:VALARM
END:VEVENT
END:VCALENDAR
