BEGIN:VCALENDAR
VERSION:2.0
METHOD:PUBLISH
PRODID:- PBCS IT-News //NONSGML Events //EN
CALSCALE:GREGORIAN
X-WR-CALNAME:ICAL-BLOG
BEGIN:VEVENT
UID:bf81c1bd-2b5e-4376-80f1-e4974f7883b3
DTSTAMP:20260425T032009Z
CREATED:20260425T032009Z
SUMMARY:Quizfrage 4384
DESCRIPTION:https://wp.pbcs.de/question/quizfrage-4384/ - Artikel vom: Mo.\, 29. September 2025\, 19:09:25 - Wie lautet das Flughafenkürzel von: Innsbruck / Österreich
LOCATION:https://wp.pbcs.de
CATEGORIES:Gelbe Kategorie
TRANSP:TRANSPARENT
X-MICROSOFT-CDO-BUSYSTATUS:FREE
SEQUENCE:0
CLASS:PUBLIC
PRIORITY:1
DTSTART:20260425T070000Z
DTEND:20260425T080000Z
BEGIN:VALARM
TRIGGER:-PT30M
ACTION:DISPLAY
DESCRIPTION:Reminder for Quizfrage 4384
END:VALARM
END:VEVENT
END:VCALENDAR
