BEGIN:VCALENDAR
VERSION:2.0
METHOD:PUBLISH
PRODID:- PBCS IT-News //NONSGML Events //EN
CALSCALE:GREGORIAN
X-WR-CALNAME:ICAL-BLOG
BEGIN:VEVENT
UID:3181cda2-8204-4c75-a40e-53d74e3842d4
DTSTAMP:20260424T165350Z
CREATED:20260424T165350Z
SUMMARY:Quizfrage 4378
DESCRIPTION:https://wp.pbcs.de/question/quizfrage-4378/ - Artikel vom: Mo.\, 29. September 2025\, 19:09:25 - Wie lautet das Flughafenkürzel von: Göteborg / Schweden
LOCATION:https://wp.pbcs.de
CATEGORIES:Gelbe Kategorie
TRANSP:TRANSPARENT
X-MICROSOFT-CDO-BUSYSTATUS:FREE
SEQUENCE:0
CLASS:PUBLIC
PRIORITY:1
DTSTART:20260425T070000Z
DTEND:20260425T080000Z
BEGIN:VALARM
TRIGGER:-PT30M
ACTION:DISPLAY
DESCRIPTION:Reminder for Quizfrage 4378
END:VALARM
END:VEVENT
END:VCALENDAR
