BEGIN:VCALENDAR
VERSION:2.0
METHOD:PUBLISH
PRODID:- PBCS IT-News //NONSGML Events //EN
CALSCALE:GREGORIAN
X-WR-CALNAME:ICAL-BLOG
BEGIN:VEVENT
UID:1e3da628-4cdd-433f-8161-34f41f0aa822
DTSTAMP:20260426T002144Z
CREATED:20260426T002144Z
SUMMARY:Quizfrage 4352
DESCRIPTION:https://wp.pbcs.de/question/quizfrage-4352/ - Artikel vom: Mo.\, 29. September 2025\, 19:09:24 - Wie lautet das Flughafenkürzel von: Bodrum / Türkei
LOCATION:https://wp.pbcs.de
CATEGORIES:Gelbe Kategorie
TRANSP:TRANSPARENT
X-MICROSOFT-CDO-BUSYSTATUS:FREE
SEQUENCE:0
CLASS:PUBLIC
PRIORITY:1
DTSTART:20260426T070000Z
DTEND:20260426T080000Z
BEGIN:VALARM
TRIGGER:-PT30M
ACTION:DISPLAY
DESCRIPTION:Reminder for Quizfrage 4352
END:VALARM
END:VEVENT
END:VCALENDAR
