BEGIN:VCALENDAR
VERSION:2.0
METHOD:PUBLISH
PRODID:- PBCS IT-News //NONSGML Events //EN
CALSCALE:GREGORIAN
X-WR-CALNAME:ICAL-BLOG
BEGIN:VEVENT
UID:ad5d68b0-89c0-46b7-a6de-b9a0af7f0252
DTSTAMP:20260422T232954Z
CREATED:20260422T232954Z
SUMMARY:Quizfrage 4234
DESCRIPTION:https://wp.pbcs.de/question/quizfrage-4234/ - Artikel vom: Mo.\, 29. September 2025\, 19:09:18 - Ein reformiertes Reisegesetz brachte die Mauer ungeplant zum Fall. Wer hat dieses Gesetz zu früh verkündet?
LOCATION:https://wp.pbcs.de
CATEGORIES:Gelbe Kategorie
TRANSP:TRANSPARENT
X-MICROSOFT-CDO-BUSYSTATUS:FREE
SEQUENCE:0
CLASS:PUBLIC
PRIORITY:1
DTSTART:20260423T070000Z
DTEND:20260423T080000Z
BEGIN:VALARM
TRIGGER:-PT30M
ACTION:DISPLAY
DESCRIPTION:Reminder for Quizfrage 4234
END:VALARM
END:VEVENT
END:VCALENDAR
