BEGIN:VCALENDAR
VERSION:2.0
METHOD:PUBLISH
PRODID:- PBCS IT-News //NONSGML Events //EN
CALSCALE:GREGORIAN
X-WR-CALNAME:ICAL-BLOG
BEGIN:VEVENT
UID:46feb31d-e2b6-4d79-a9e2-ecad4884adee
DTSTAMP:20260423T230952Z
CREATED:20260423T230952Z
SUMMARY:Quizfrage 4214
DESCRIPTION:https://wp.pbcs.de/question/quizfrage-4214/ - Artikel vom: Mo.\, 29. September 2025\, 19:09:17 - Nach welchem Architekt ist eine Plattenbausiedlung in Berlin benannt
LOCATION:https://wp.pbcs.de
CATEGORIES:Gelbe Kategorie
TRANSP:TRANSPARENT
X-MICROSOFT-CDO-BUSYSTATUS:FREE
SEQUENCE:0
CLASS:PUBLIC
PRIORITY:1
DTSTART:20260424T070000Z
DTEND:20260424T080000Z
BEGIN:VALARM
TRIGGER:-PT30M
ACTION:DISPLAY
DESCRIPTION:Reminder for Quizfrage 4214
END:VALARM
END:VEVENT
END:VCALENDAR
