BEGIN:VCALENDAR
VERSION:2.0
METHOD:PUBLISH
PRODID:- PBCS IT-News //NONSGML Events //EN
CALSCALE:GREGORIAN
X-WR-CALNAME:ICAL-BLOG
BEGIN:VEVENT
UID:588586f8-e0cf-495e-8833-6155fa18a855
DTSTAMP:20260420T164039Z
CREATED:20260420T164039Z
SUMMARY:Quizfrage 4189
DESCRIPTION:https://wp.pbcs.de/question/quizfrage-4189/ - Artikel vom: Mo.\, 29. September 2025\, 19:09:16 - Auf Borneo leben die
LOCATION:https://wp.pbcs.de
CATEGORIES:Gelbe Kategorie
TRANSP:TRANSPARENT
X-MICROSOFT-CDO-BUSYSTATUS:FREE
SEQUENCE:0
CLASS:PUBLIC
PRIORITY:1
DTSTART:20260421T070000Z
DTEND:20260421T080000Z
BEGIN:VALARM
TRIGGER:-PT30M
ACTION:DISPLAY
DESCRIPTION:Reminder for Quizfrage 4189
END:VALARM
END:VEVENT
END:VCALENDAR
