BEGIN:VCALENDAR
VERSION:2.0
METHOD:PUBLISH
PRODID:- PBCS IT-News //NONSGML Events //EN
CALSCALE:GREGORIAN
X-WR-CALNAME:ICAL-BLOG
BEGIN:VEVENT
UID:8589663c-6439-4c66-8efe-819819748b0a
DTSTAMP:20260425T122025Z
CREATED:20260425T122025Z
SUMMARY:Quizfrage 4151
DESCRIPTION:https://wp.pbcs.de/question/quizfrage-4151/ - Artikel vom: Mo.\, 29. September 2025\, 19:09:13 - Wie heißt die Währung in Albanien?
LOCATION:https://wp.pbcs.de
CATEGORIES:Gelbe Kategorie
TRANSP:TRANSPARENT
X-MICROSOFT-CDO-BUSYSTATUS:FREE
SEQUENCE:0
CLASS:PUBLIC
PRIORITY:1
DTSTART:20260426T070000Z
DTEND:20260426T080000Z
BEGIN:VALARM
TRIGGER:-PT30M
ACTION:DISPLAY
DESCRIPTION:Reminder for Quizfrage 4151
END:VALARM
END:VEVENT
END:VCALENDAR
