BEGIN:VCALENDAR
VERSION:2.0
METHOD:PUBLISH
PRODID:- PBCS IT-News //NONSGML Events //EN
CALSCALE:GREGORIAN
X-WR-CALNAME:ICAL-BLOG
BEGIN:VEVENT
UID:7a7a30b4-b9ff-4c6b-8940-9dbdb9975774
DTSTAMP:20260422T232803Z
CREATED:20260422T232803Z
SUMMARY:Quizfrage 4151
DESCRIPTION:https://wp.pbcs.de/question/quizfrage-4151/ - Artikel vom: Mo.\, 29. September 2025\, 19:09:13 - Wie heißt die Währung in Albanien?
LOCATION:https://wp.pbcs.de
CATEGORIES:Gelbe Kategorie
TRANSP:TRANSPARENT
X-MICROSOFT-CDO-BUSYSTATUS:FREE
SEQUENCE:0
CLASS:PUBLIC
PRIORITY:1
DTSTART:20260423T070000Z
DTEND:20260423T080000Z
BEGIN:VALARM
TRIGGER:-PT30M
ACTION:DISPLAY
DESCRIPTION:Reminder for Quizfrage 4151
END:VALARM
END:VEVENT
END:VCALENDAR
