BEGIN:VCALENDAR
VERSION:2.0
METHOD:PUBLISH
PRODID:- PBCS IT-News //NONSGML Events //EN
CALSCALE:GREGORIAN
X-WR-CALNAME:ICAL-BLOG
BEGIN:VEVENT
UID:6fa45612-db53-4a52-83fb-9e5c24cf8cd2
DTSTAMP:20260422T234816Z
CREATED:20260422T234816Z
SUMMARY:Quizfrage 4150
DESCRIPTION:https://wp.pbcs.de/question/quizfrage-4150/ - Artikel vom: Mo.\, 29. September 2025\, 19:09:13 - Wie heißt die Währung in Akrotiri?
LOCATION:https://wp.pbcs.de
CATEGORIES:Gelbe Kategorie
TRANSP:TRANSPARENT
X-MICROSOFT-CDO-BUSYSTATUS:FREE
SEQUENCE:0
CLASS:PUBLIC
PRIORITY:1
DTSTART:20260423T070000Z
DTEND:20260423T080000Z
BEGIN:VALARM
TRIGGER:-PT30M
ACTION:DISPLAY
DESCRIPTION:Reminder for Quizfrage 4150
END:VALARM
END:VEVENT
END:VCALENDAR
