BEGIN:VCALENDAR
VERSION:2.0
METHOD:PUBLISH
PRODID:- PBCS IT-News //NONSGML Events //EN
CALSCALE:GREGORIAN
X-WR-CALNAME:ICAL-BLOG
BEGIN:VEVENT
UID:fb2a04cd-8fa0-40e2-8aa0-de20b6b1fd06
DTSTAMP:20260423T061715Z
CREATED:20260423T061715Z
SUMMARY:Quizfrage 4129
DESCRIPTION:https://wp.pbcs.de/question/quizfrage-4129/ - Artikel vom: Mo.\, 29. September 2025\, 19:09:12 - Wie heißt die Hauptstadt von: Uruguay?
LOCATION:https://wp.pbcs.de
CATEGORIES:Gelbe Kategorie
TRANSP:TRANSPARENT
X-MICROSOFT-CDO-BUSYSTATUS:FREE
SEQUENCE:0
CLASS:PUBLIC
PRIORITY:1
DTSTART:20260423T070000Z
DTEND:20260423T080000Z
BEGIN:VALARM
TRIGGER:-PT30M
ACTION:DISPLAY
DESCRIPTION:Reminder for Quizfrage 4129
END:VALARM
END:VEVENT
END:VCALENDAR
