BEGIN:VCALENDAR
VERSION:2.0
METHOD:PUBLISH
PRODID:- PBCS IT-News //NONSGML Events //EN
CALSCALE:GREGORIAN
X-WR-CALNAME:ICAL-BLOG
BEGIN:VEVENT
UID:00e52666-a988-45a1-95b8-e331fcd080c0
DTSTAMP:20260419T170043Z
CREATED:20260419T170043Z
SUMMARY:Quizfrage 4120
DESCRIPTION:https://wp.pbcs.de/question/quizfrage-4120/ - Artikel vom: Mo.\, 29. September 2025\, 19:09:11 - Wie heißt die Hauptstadt von: Tschad?
LOCATION:https://wp.pbcs.de
CATEGORIES:Gelbe Kategorie
TRANSP:TRANSPARENT
X-MICROSOFT-CDO-BUSYSTATUS:FREE
SEQUENCE:0
CLASS:PUBLIC
PRIORITY:1
DTSTART:20260416T070000Z
DTEND:20260416T080000Z
BEGIN:VALARM
TRIGGER:-PT30M
ACTION:DISPLAY
DESCRIPTION:Reminder for Quizfrage 4120
END:VALARM
END:VEVENT
END:VCALENDAR
