BEGIN:VCALENDAR
VERSION:2.0
METHOD:PUBLISH
PRODID:- PBCS IT-News //NONSGML Events //EN
CALSCALE:GREGORIAN
X-WR-CALNAME:ICAL-BLOG
BEGIN:VEVENT
UID:a909c085-35cc-409b-8d39-1ae89af4a9ee
DTSTAMP:20260423T084818Z
CREATED:20260423T084818Z
SUMMARY:Quizfrage 4112
DESCRIPTION:https://wp.pbcs.de/question/quizfrage-4112/ - Artikel vom: Mo.\, 29. September 2025\, 19:09:10 - Wie heißt die Hauptstadt von: Suriname?
LOCATION:https://wp.pbcs.de
CATEGORIES:Gelbe Kategorie
TRANSP:TRANSPARENT
X-MICROSOFT-CDO-BUSYSTATUS:FREE
SEQUENCE:0
CLASS:PUBLIC
PRIORITY:1
DTSTART:20260423T070000Z
DTEND:20260423T080000Z
BEGIN:VALARM
TRIGGER:-PT30M
ACTION:DISPLAY
DESCRIPTION:Reminder for Quizfrage 4112
END:VALARM
END:VEVENT
END:VCALENDAR
