BEGIN:VCALENDAR
VERSION:2.0
METHOD:PUBLISH
PRODID:- PBCS IT-News //NONSGML Events //EN
CALSCALE:GREGORIAN
X-WR-CALNAME:ICAL-BLOG
BEGIN:VEVENT
UID:095e06c2-f37b-4406-9dd5-bebfa32ad1ce
DTSTAMP:20260424T051414Z
CREATED:20260424T051414Z
SUMMARY:Quizfrage 4048
DESCRIPTION:https://wp.pbcs.de/question/quizfrage-4048/ - Artikel vom: Mo.\, 29. September 2025\, 19:09:06 - Wie heißt die Hauptstadt von: Mali?
LOCATION:https://wp.pbcs.de
CATEGORIES:Gelbe Kategorie
TRANSP:TRANSPARENT
X-MICROSOFT-CDO-BUSYSTATUS:FREE
SEQUENCE:0
CLASS:PUBLIC
PRIORITY:1
DTSTART:20260424T070000Z
DTEND:20260424T080000Z
BEGIN:VALARM
TRIGGER:-PT30M
ACTION:DISPLAY
DESCRIPTION:Reminder for Quizfrage 4048
END:VALARM
END:VEVENT
END:VCALENDAR
