BEGIN:VCALENDAR
VERSION:2.0
METHOD:PUBLISH
PRODID:- PBCS IT-News //NONSGML Events //EN
CALSCALE:GREGORIAN
X-WR-CALNAME:ICAL-BLOG
BEGIN:VEVENT
UID:e0b71b28-ee55-410c-a7fc-70893c828973
DTSTAMP:20260419T124932Z
CREATED:20260419T124932Z
SUMMARY:Quizfrage 4038
DESCRIPTION:https://wp.pbcs.de/question/quizfrage-4038/ - Artikel vom: Mo.\, 29. September 2025\, 19:09:05 - Wie heißt die Hauptstadt von: Libanon?
LOCATION:https://wp.pbcs.de
CATEGORIES:Gelbe Kategorie
TRANSP:TRANSPARENT
X-MICROSOFT-CDO-BUSYSTATUS:FREE
SEQUENCE:0
CLASS:PUBLIC
PRIORITY:1
DTSTART:20260416T070000Z
DTEND:20260416T080000Z
BEGIN:VALARM
TRIGGER:-PT30M
ACTION:DISPLAY
DESCRIPTION:Reminder for Quizfrage 4038
END:VALARM
END:VEVENT
END:VCALENDAR
