BEGIN:VCALENDAR
VERSION:2.0
METHOD:PUBLISH
PRODID:- PBCS IT-News //NONSGML Events //EN
CALSCALE:GREGORIAN
X-WR-CALNAME:ICAL-BLOG
BEGIN:VEVENT
UID:ac060cb1-a8a7-4321-8f1a-9b364bf64634
DTSTAMP:20260423T142637Z
CREATED:20260423T142637Z
SUMMARY:Quizfrage 4021
DESCRIPTION:https://wp.pbcs.de/question/quizfrage-4021/ - Artikel vom: Mo.\, 29. September 2025\, 19:09:04 - Wie heißt die Hauptstadt von: Kasachstan?
LOCATION:https://wp.pbcs.de
CATEGORIES:Gelbe Kategorie
TRANSP:TRANSPARENT
X-MICROSOFT-CDO-BUSYSTATUS:FREE
SEQUENCE:0
CLASS:PUBLIC
PRIORITY:1
DTSTART:20260424T070000Z
DTEND:20260424T080000Z
BEGIN:VALARM
TRIGGER:-PT30M
ACTION:DISPLAY
DESCRIPTION:Reminder for Quizfrage 4021
END:VALARM
END:VEVENT
END:VCALENDAR
