BEGIN:VCALENDAR
VERSION:2.0
METHOD:PUBLISH
PRODID:- PBCS IT-News //NONSGML Events //EN
CALSCALE:GREGORIAN
X-WR-CALNAME:ICAL-BLOG
BEGIN:VEVENT
UID:8c73c8c8-929b-4681-a675-d06d5dd1682b
DTSTAMP:20260422T231412Z
CREATED:20260422T231412Z
SUMMARY:Quizfrage 4006
DESCRIPTION:https://wp.pbcs.de/question/quizfrage-4006/ - Artikel vom: Mo.\, 29. September 2025\, 19:09:03 - Wie heißt die Hauptstadt von: Indonesien?
LOCATION:https://wp.pbcs.de
CATEGORIES:Gelbe Kategorie
TRANSP:TRANSPARENT
X-MICROSOFT-CDO-BUSYSTATUS:FREE
SEQUENCE:0
CLASS:PUBLIC
PRIORITY:1
DTSTART:20260423T070000Z
DTEND:20260423T080000Z
BEGIN:VALARM
TRIGGER:-PT30M
ACTION:DISPLAY
DESCRIPTION:Reminder for Quizfrage 4006
END:VALARM
END:VEVENT
END:VCALENDAR
