BEGIN:VCALENDAR
VERSION:2.0
METHOD:PUBLISH
PRODID:- PBCS IT-News //NONSGML Events //EN
CALSCALE:GREGORIAN
X-WR-CALNAME:ICAL-BLOG
BEGIN:VEVENT
UID:d698d765-32eb-4744-b700-ebe1a1d726f3
DTSTAMP:20260425T034342Z
CREATED:20260425T034342Z
SUMMARY:Quizfrage 3991
DESCRIPTION:https://wp.pbcs.de/question/quizfrage-3991/ - Artikel vom: Mo.\, 29. September 2025\, 19:09:02 - Wie heißt die Hauptstadt von: Finnland?
LOCATION:https://wp.pbcs.de
CATEGORIES:Gelbe Kategorie
TRANSP:TRANSPARENT
X-MICROSOFT-CDO-BUSYSTATUS:FREE
SEQUENCE:0
CLASS:PUBLIC
PRIORITY:1
DTSTART:20260425T070000Z
DTEND:20260425T080000Z
BEGIN:VALARM
TRIGGER:-PT30M
ACTION:DISPLAY
DESCRIPTION:Reminder for Quizfrage 3991
END:VALARM
END:VEVENT
END:VCALENDAR
