BEGIN:VCALENDAR
VERSION:2.0
METHOD:PUBLISH
PRODID:- PBCS IT-News //NONSGML Events //EN
CALSCALE:GREGORIAN
X-WR-CALNAME:ICAL-BLOG
BEGIN:VEVENT
UID:e7795290-bfb3-4f67-8238-d7a506c426f6
DTSTAMP:20260425T034505Z
CREATED:20260425T034505Z
SUMMARY:Quizfrage 3990
DESCRIPTION:https://wp.pbcs.de/question/quizfrage-3990/ - Artikel vom: Mo.\, 29. September 2025\, 19:09:02 - Wie heißt die Hauptstadt von: Fidschi?
LOCATION:https://wp.pbcs.de
CATEGORIES:Gelbe Kategorie
TRANSP:TRANSPARENT
X-MICROSOFT-CDO-BUSYSTATUS:FREE
SEQUENCE:0
CLASS:PUBLIC
PRIORITY:1
DTSTART:20260425T070000Z
DTEND:20260425T080000Z
BEGIN:VALARM
TRIGGER:-PT30M
ACTION:DISPLAY
DESCRIPTION:Reminder for Quizfrage 3990
END:VALARM
END:VEVENT
END:VCALENDAR
