BEGIN:VCALENDAR
VERSION:2.0
METHOD:PUBLISH
PRODID:- PBCS IT-News //NONSGML Events //EN
CALSCALE:GREGORIAN
X-WR-CALNAME:ICAL-BLOG
BEGIN:VEVENT
UID:e3d4175a-da76-4553-97b0-23c88890cbd7
DTSTAMP:20260420T115049Z
CREATED:20260420T115049Z
SUMMARY:Quizfrage 3948
DESCRIPTION:https://wp.pbcs.de/question/quizfrage-3948/ - Artikel vom: Mo.\, 29. September 2025\, 19:08:59 - Wie heißt die Hauptstadt von: Albanien?
LOCATION:https://wp.pbcs.de
CATEGORIES:Gelbe Kategorie
TRANSP:TRANSPARENT
X-MICROSOFT-CDO-BUSYSTATUS:FREE
SEQUENCE:0
CLASS:PUBLIC
PRIORITY:1
DTSTART:20260416T070000Z
DTEND:20260416T080000Z
BEGIN:VALARM
TRIGGER:-PT30M
ACTION:DISPLAY
DESCRIPTION:Reminder for Quizfrage 3948
END:VALARM
END:VEVENT
END:VCALENDAR
