BEGIN:VCALENDAR
VERSION:2.0
METHOD:PUBLISH
PRODID:- PBCS IT-News //NONSGML Events //EN
CALSCALE:GREGORIAN
X-WR-CALNAME:ICAL-BLOG
BEGIN:VEVENT
UID:d0c4f608-05d5-4aa2-91d5-62a2439fe5e3
DTSTAMP:20260424T071118Z
CREATED:20260424T071118Z
SUMMARY:Quizfrage 3942
DESCRIPTION:https://wp.pbcs.de/question/quizfrage-3942/ - Artikel vom: Mo.\, 29. September 2025\, 19:08:59 - Wie heißt die Hauptstadt von Brunei?
LOCATION:https://wp.pbcs.de
CATEGORIES:Gelbe Kategorie
TRANSP:TRANSPARENT
X-MICROSOFT-CDO-BUSYSTATUS:FREE
SEQUENCE:0
CLASS:PUBLIC
PRIORITY:1
DTSTART:20260424T070000Z
DTEND:20260424T080000Z
BEGIN:VALARM
TRIGGER:-PT30M
ACTION:DISPLAY
DESCRIPTION:Reminder for Quizfrage 3942
END:VALARM
END:VEVENT
END:VCALENDAR
