BEGIN:VCALENDAR
VERSION:2.0
METHOD:PUBLISH
PRODID:- PBCS IT-News //NONSGML Events //EN
CALSCALE:GREGORIAN
X-WR-CALNAME:ICAL-BLOG
BEGIN:VEVENT
UID:efa7b4d6-f6e3-4282-808c-125f6f6a1a85
DTSTAMP:20260423T211056Z
CREATED:20260423T211056Z
SUMMARY:Quizfrage 3933
DESCRIPTION:https://wp.pbcs.de/question/quizfrage-3933/ - Artikel vom: Mo.\, 29. September 2025\, 19:08:58 - Und wen schmähten die Studenten als - Kümmeltürke?
LOCATION:https://wp.pbcs.de
CATEGORIES:Gelbe Kategorie
TRANSP:TRANSPARENT
X-MICROSOFT-CDO-BUSYSTATUS:FREE
SEQUENCE:0
CLASS:PUBLIC
PRIORITY:1
DTSTART:20260424T070000Z
DTEND:20260424T080000Z
BEGIN:VALARM
TRIGGER:-PT30M
ACTION:DISPLAY
DESCRIPTION:Reminder for Quizfrage 3933
END:VALARM
END:VEVENT
END:VCALENDAR
