BEGIN:VCALENDAR
VERSION:2.0
METHOD:PUBLISH
PRODID:- PBCS IT-News //NONSGML Events //EN
CALSCALE:GREGORIAN
X-WR-CALNAME:ICAL-BLOG
BEGIN:VEVENT
UID:9fafd87d-c683-4af3-a511-9a2b495d4622
DTSTAMP:20260419T221148Z
CREATED:20260419T221148Z
SUMMARY:Quizfrage 3932
DESCRIPTION:https://wp.pbcs.de/question/quizfrage-3932/ - Artikel vom: Mo.\, 29. September 2025\, 19:08:58 - Preußen führte 1866 das Gefangenentransportwesen ein. Wie hießen die Transporter im Volksmund?
LOCATION:https://wp.pbcs.de
CATEGORIES:Gelbe Kategorie
TRANSP:TRANSPARENT
X-MICROSOFT-CDO-BUSYSTATUS:FREE
SEQUENCE:0
CLASS:PUBLIC
PRIORITY:1
DTSTART:20260420T070000Z
DTEND:20260420T080000Z
BEGIN:VALARM
TRIGGER:-PT30M
ACTION:DISPLAY
DESCRIPTION:Reminder for Quizfrage 3932
END:VALARM
END:VEVENT
END:VCALENDAR
