BEGIN:VCALENDAR
VERSION:2.0
METHOD:PUBLISH
PRODID:- PBCS IT-News //NONSGML Events //EN
CALSCALE:GREGORIAN
X-WR-CALNAME:ICAL-BLOG
BEGIN:VEVENT
UID:f28653c0-3997-4027-879e-5bdec7cc035a
DTSTAMP:20260425T131230Z
CREATED:20260425T131230Z
SUMMARY:Quizfrage 3911
DESCRIPTION:https://wp.pbcs.de/question/quizfrage-3911/ - Artikel vom: Mo.\, 29. September 2025\, 19:08:56 - Durch welches dieser Länder fließt die Donau nicht?
LOCATION:https://wp.pbcs.de
CATEGORIES:Gelbe Kategorie
TRANSP:TRANSPARENT
X-MICROSOFT-CDO-BUSYSTATUS:FREE
SEQUENCE:0
CLASS:PUBLIC
PRIORITY:1
DTSTART:20260426T070000Z
DTEND:20260426T080000Z
BEGIN:VALARM
TRIGGER:-PT30M
ACTION:DISPLAY
DESCRIPTION:Reminder for Quizfrage 3911
END:VALARM
END:VEVENT
END:VCALENDAR
