BEGIN:VCALENDAR
VERSION:2.0
METHOD:PUBLISH
PRODID:- PBCS IT-News //NONSGML Events //EN
CALSCALE:GREGORIAN
X-WR-CALNAME:ICAL-BLOG
BEGIN:VEVENT
UID:037c66f7-1639-4a4f-a57e-029659124b47
DTSTAMP:20260425T121940Z
CREATED:20260425T121940Z
SUMMARY:Quizfrage 3888
DESCRIPTION:https://wp.pbcs.de/question/quizfrage-3888/ - Artikel vom: Mo.\, 29. September 2025\, 19:08:55 - Welche drei Zahlen stehen in verschiedenen Kombinationen auf der Brust der Panzerknacker?
LOCATION:https://wp.pbcs.de
CATEGORIES:Gelbe Kategorie
TRANSP:TRANSPARENT
X-MICROSOFT-CDO-BUSYSTATUS:FREE
SEQUENCE:0
CLASS:PUBLIC
PRIORITY:1
DTSTART:20260426T070000Z
DTEND:20260426T080000Z
BEGIN:VALARM
TRIGGER:-PT30M
ACTION:DISPLAY
DESCRIPTION:Reminder for Quizfrage 3888
END:VALARM
END:VEVENT
END:VCALENDAR
