BEGIN:VCALENDAR
VERSION:2.0
METHOD:PUBLISH
PRODID:- PBCS IT-News //NONSGML Events //EN
CALSCALE:GREGORIAN
X-WR-CALNAME:ICAL-BLOG
BEGIN:VEVENT
UID:20b65e94-5a25-40cc-aca2-8aa9110f1141
DTSTAMP:20260425T164012Z
CREATED:20260425T164012Z
SUMMARY:Quizfrage 3852
DESCRIPTION:https://wp.pbcs.de/question/quizfrage-3852/ - Artikel vom: Mo.\, 29. September 2025\, 19:08:52 - An welche dieser Regeln müssen sich die Mitglieder des britischen Königshauses halten?
LOCATION:https://wp.pbcs.de
CATEGORIES:Gelbe Kategorie
TRANSP:TRANSPARENT
X-MICROSOFT-CDO-BUSYSTATUS:FREE
SEQUENCE:0
CLASS:PUBLIC
PRIORITY:1
DTSTART:20260426T070000Z
DTEND:20260426T080000Z
BEGIN:VALARM
TRIGGER:-PT30M
ACTION:DISPLAY
DESCRIPTION:Reminder for Quizfrage 3852
END:VALARM
END:VEVENT
END:VCALENDAR
