BEGIN:VCALENDAR
VERSION:2.0
METHOD:PUBLISH
PRODID:- PBCS IT-News //NONSGML Events //EN
CALSCALE:GREGORIAN
X-WR-CALNAME:ICAL-BLOG
BEGIN:VEVENT
UID:1902f863-e972-4301-a81e-4339531aecb4
DTSTAMP:20260423T061651Z
CREATED:20260423T061651Z
SUMMARY:Quizfrage 3824
DESCRIPTION:https://wp.pbcs.de/question/quizfrage-3824/ - Artikel vom: Mo.\, 29. September 2025\, 19:08:50 - Welches dieser Kfz-Kennzeichen gibt es in Deutschland nicht für Privatpersonen?
LOCATION:https://wp.pbcs.de
CATEGORIES:Gelbe Kategorie
TRANSP:TRANSPARENT
X-MICROSOFT-CDO-BUSYSTATUS:FREE
SEQUENCE:0
CLASS:PUBLIC
PRIORITY:1
DTSTART:20260423T070000Z
DTEND:20260423T080000Z
BEGIN:VALARM
TRIGGER:-PT30M
ACTION:DISPLAY
DESCRIPTION:Reminder for Quizfrage 3824
END:VALARM
END:VEVENT
END:VCALENDAR
