BEGIN:VCALENDAR
VERSION:2.0
METHOD:PUBLISH
PRODID:- PBCS IT-News //NONSGML Events //EN
CALSCALE:GREGORIAN
X-WR-CALNAME:ICAL-BLOG
BEGIN:VEVENT
UID:f462e74c-5905-490a-a156-a14ee97e0e25
DTSTAMP:20260423T061725Z
CREATED:20260423T061725Z
SUMMARY:Quizfrage 3819
DESCRIPTION:https://wp.pbcs.de/question/quizfrage-3819/ - Artikel vom: Mo.\, 29. September 2025\, 19:08:50 - Welche Stadt hieß früher Saigon?
LOCATION:https://wp.pbcs.de
CATEGORIES:Gelbe Kategorie
TRANSP:TRANSPARENT
X-MICROSOFT-CDO-BUSYSTATUS:FREE
SEQUENCE:0
CLASS:PUBLIC
PRIORITY:1
DTSTART:20260423T070000Z
DTEND:20260423T080000Z
BEGIN:VALARM
TRIGGER:-PT30M
ACTION:DISPLAY
DESCRIPTION:Reminder for Quizfrage 3819
END:VALARM
END:VEVENT
END:VCALENDAR
