BEGIN:VCALENDAR
VERSION:2.0
METHOD:PUBLISH
PRODID:- PBCS IT-News //NONSGML Events //EN
CALSCALE:GREGORIAN
X-WR-CALNAME:ICAL-BLOG
BEGIN:VEVENT
UID:92f12556-26c2-46ec-81e8-b04bc875af6f
DTSTAMP:20260423T083521Z
CREATED:20260423T083521Z
SUMMARY:Quizfrage 3798
DESCRIPTION:https://wp.pbcs.de/question/quizfrage-3798/ - Artikel vom: Mo.\, 29. September 2025\, 19:08:49 - Welches Tier kann ein Jahr lang ohne Nahrung leben?
LOCATION:https://wp.pbcs.de
CATEGORIES:Gelbe Kategorie
TRANSP:TRANSPARENT
X-MICROSOFT-CDO-BUSYSTATUS:FREE
SEQUENCE:0
CLASS:PUBLIC
PRIORITY:1
DTSTART:20260423T070000Z
DTEND:20260423T080000Z
BEGIN:VALARM
TRIGGER:-PT30M
ACTION:DISPLAY
DESCRIPTION:Reminder for Quizfrage 3798
END:VALARM
END:VEVENT
END:VCALENDAR
