BEGIN:VCALENDAR
VERSION:2.0
METHOD:PUBLISH
PRODID:- PBCS IT-News //NONSGML Events //EN
CALSCALE:GREGORIAN
X-WR-CALNAME:ICAL-BLOG
BEGIN:VEVENT
UID:b23cd246-e4ec-44a4-9afe-0e018f9650d7
DTSTAMP:20260423T064737Z
CREATED:20260423T064737Z
SUMMARY:Quizfrage 3797
DESCRIPTION:https://wp.pbcs.de/question/quizfrage-3797/ - Artikel vom: Mo.\, 29. September 2025\, 19:08:49 - Welche Farbe können Bienen nicht sehen?
LOCATION:https://wp.pbcs.de
CATEGORIES:Gelbe Kategorie
TRANSP:TRANSPARENT
X-MICROSOFT-CDO-BUSYSTATUS:FREE
SEQUENCE:0
CLASS:PUBLIC
PRIORITY:1
DTSTART:20260423T070000Z
DTEND:20260423T080000Z
BEGIN:VALARM
TRIGGER:-PT30M
ACTION:DISPLAY
DESCRIPTION:Reminder for Quizfrage 3797
END:VALARM
END:VEVENT
END:VCALENDAR
