BEGIN:VCALENDAR
VERSION:2.0
METHOD:PUBLISH
PRODID:- PBCS IT-News //NONSGML Events //EN
CALSCALE:GREGORIAN
X-WR-CALNAME:ICAL-BLOG
BEGIN:VEVENT
UID:2e331371-4866-4c95-9a13-d0f95e0797f2
DTSTAMP:20260423T134407Z
CREATED:20260423T134407Z
SUMMARY:Quizfrage 3795
DESCRIPTION:https://wp.pbcs.de/question/quizfrage-3795/ - Artikel vom: Mo.\, 29. September 2025\, 19:08:48 - Welches Tier frisst die giftigen Fliegenpilze ohne krank zu werden?
LOCATION:https://wp.pbcs.de
CATEGORIES:Gelbe Kategorie
TRANSP:TRANSPARENT
X-MICROSOFT-CDO-BUSYSTATUS:FREE
SEQUENCE:0
CLASS:PUBLIC
PRIORITY:1
DTSTART:20260424T070000Z
DTEND:20260424T080000Z
BEGIN:VALARM
TRIGGER:-PT30M
ACTION:DISPLAY
DESCRIPTION:Reminder for Quizfrage 3795
END:VALARM
END:VEVENT
END:VCALENDAR
