BEGIN:VCALENDAR
VERSION:2.0
METHOD:PUBLISH
PRODID:- PBCS IT-News //NONSGML Events //EN
CALSCALE:GREGORIAN
X-WR-CALNAME:ICAL-BLOG
BEGIN:VEVENT
UID:228174bc-5fe8-42c5-b029-1fe0d460684f
DTSTAMP:20260425T184535Z
CREATED:20260425T184535Z
SUMMARY:Quizfrage 3789
DESCRIPTION:https://wp.pbcs.de/question/quizfrage-3789/ - Artikel vom: Mo.\, 29. September 2025\, 19:08:48 - Beim Poolbillard steht welche Zahl auf der schwarzen Kugel?
LOCATION:https://wp.pbcs.de
CATEGORIES:Gelbe Kategorie
TRANSP:TRANSPARENT
X-MICROSOFT-CDO-BUSYSTATUS:FREE
SEQUENCE:0
CLASS:PUBLIC
PRIORITY:1
DTSTART:20260426T070000Z
DTEND:20260426T080000Z
BEGIN:VALARM
TRIGGER:-PT30M
ACTION:DISPLAY
DESCRIPTION:Reminder for Quizfrage 3789
END:VALARM
END:VEVENT
END:VCALENDAR
