BEGIN:VCALENDAR
VERSION:2.0
METHOD:PUBLISH
PRODID:- PBCS IT-News //NONSGML Events //EN
CALSCALE:GREGORIAN
X-WR-CALNAME:ICAL-BLOG
BEGIN:VEVENT
UID:9e94d0a3-ebec-44cb-8590-bad26f4c6dc3
DTSTAMP:20260423T235924Z
CREATED:20260423T235924Z
SUMMARY:Quizfrage 3784
DESCRIPTION:https://wp.pbcs.de/question/quizfrage-3784/ - Artikel vom: Mo.\, 29. September 2025\, 19:08:48 - Wer gilt als Verfasser der amerikanischen Unabhängigkeitserklärung?
LOCATION:https://wp.pbcs.de
CATEGORIES:Gelbe Kategorie
TRANSP:TRANSPARENT
X-MICROSOFT-CDO-BUSYSTATUS:FREE
SEQUENCE:0
CLASS:PUBLIC
PRIORITY:1
DTSTART:20260424T070000Z
DTEND:20260424T080000Z
BEGIN:VALARM
TRIGGER:-PT30M
ACTION:DISPLAY
DESCRIPTION:Reminder for Quizfrage 3784
END:VALARM
END:VEVENT
END:VCALENDAR
