BEGIN:VCALENDAR
VERSION:2.0
METHOD:PUBLISH
PRODID:- PBCS IT-News //NONSGML Events //EN
CALSCALE:GREGORIAN
X-WR-CALNAME:ICAL-BLOG
BEGIN:VEVENT
UID:b8dc17e1-b5fe-4c41-a6f1-87e905520b28
DTSTAMP:20260419T131308Z
CREATED:20260419T131308Z
SUMMARY:Quizfrage 3777
DESCRIPTION:https://wp.pbcs.de/question/quizfrage-3777/ - Artikel vom: Mo.\, 29. September 2025\, 19:08:47 - Welches Vitamin wird mithilfe von Sonnenlicht im Körper gebildet?
LOCATION:https://wp.pbcs.de
CATEGORIES:Gelbe Kategorie
TRANSP:TRANSPARENT
X-MICROSOFT-CDO-BUSYSTATUS:FREE
SEQUENCE:0
CLASS:PUBLIC
PRIORITY:1
DTSTART:20260416T070000Z
DTEND:20260416T080000Z
BEGIN:VALARM
TRIGGER:-PT30M
ACTION:DISPLAY
DESCRIPTION:Reminder for Quizfrage 3777
END:VALARM
END:VEVENT
END:VCALENDAR
