BEGIN:VCALENDAR
VERSION:2.0
METHOD:PUBLISH
PRODID:- PBCS IT-News //NONSGML Events //EN
CALSCALE:GREGORIAN
X-WR-CALNAME:ICAL-BLOG
BEGIN:VEVENT
UID:5bd01ec4-cad6-4ea8-8661-63414ad4d3c6
DTSTAMP:20260422T231339Z
CREATED:20260422T231339Z
SUMMARY:Quizfrage 3772
DESCRIPTION:https://wp.pbcs.de/question/quizfrage-3772/ - Artikel vom: Mo.\, 29. September 2025\, 19:08:47 - Wer oder was ist eine Druidin?
LOCATION:https://wp.pbcs.de
CATEGORIES:Gelbe Kategorie
TRANSP:TRANSPARENT
X-MICROSOFT-CDO-BUSYSTATUS:FREE
SEQUENCE:0
CLASS:PUBLIC
PRIORITY:1
DTSTART:20260423T070000Z
DTEND:20260423T080000Z
BEGIN:VALARM
TRIGGER:-PT30M
ACTION:DISPLAY
DESCRIPTION:Reminder for Quizfrage 3772
END:VALARM
END:VEVENT
END:VCALENDAR
