BEGIN:VCALENDAR
VERSION:2.0
METHOD:PUBLISH
PRODID:- PBCS IT-News //NONSGML Events //EN
CALSCALE:GREGORIAN
X-WR-CALNAME:ICAL-BLOG
BEGIN:VEVENT
UID:6d61027a-28c7-4d9f-a9d6-81cd3275be3e
DTSTAMP:20260424T054453Z
CREATED:20260424T054453Z
SUMMARY:Quizfrage 3717
DESCRIPTION:https://wp.pbcs.de/question/quizfrage-3717/ - Artikel vom: Mo.\, 29. September 2025\, 19:08:43 - Ein Mann mit einem Vollbart geht zurecht in die Damentoilette! Warum?
LOCATION:https://wp.pbcs.de
CATEGORIES:Gelbe Kategorie
TRANSP:TRANSPARENT
X-MICROSOFT-CDO-BUSYSTATUS:FREE
SEQUENCE:0
CLASS:PUBLIC
PRIORITY:1
DTSTART:20260424T070000Z
DTEND:20260424T080000Z
BEGIN:VALARM
TRIGGER:-PT30M
ACTION:DISPLAY
DESCRIPTION:Reminder for Quizfrage 3717
END:VALARM
END:VEVENT
END:VCALENDAR
