BEGIN:VCALENDAR
VERSION:2.0
METHOD:PUBLISH
PRODID:- PBCS IT-News //NONSGML Events //EN
CALSCALE:GREGORIAN
X-WR-CALNAME:ICAL-BLOG
BEGIN:VEVENT
UID:5fd8e8a0-b2a4-4e86-98e7-23da8d25a716
DTSTAMP:20260424T001044Z
CREATED:20260424T001044Z
SUMMARY:Quizfrage 3668
DESCRIPTION:https://wp.pbcs.de/question/quizfrage-3668/ - Artikel vom: Mo.\, 29. September 2025\, 19:07:30 - In einem Dorf steht ein 15-Zentner schwerer Stein und wenn der Hahn morgens kräht bewegt er sich. Ist das möglich?
LOCATION:https://wp.pbcs.de
CATEGORIES:Gelbe Kategorie
TRANSP:TRANSPARENT
X-MICROSOFT-CDO-BUSYSTATUS:FREE
SEQUENCE:0
CLASS:PUBLIC
PRIORITY:1
DTSTART:20260424T070000Z
DTEND:20260424T080000Z
BEGIN:VALARM
TRIGGER:-PT30M
ACTION:DISPLAY
DESCRIPTION:Reminder for Quizfrage 3668
END:VALARM
END:VEVENT
END:VCALENDAR
