BEGIN:VCALENDAR
VERSION:2.0
METHOD:PUBLISH
PRODID:- PBCS IT-News //NONSGML Events //EN
CALSCALE:GREGORIAN
X-WR-CALNAME:ICAL-BLOG
BEGIN:VEVENT
UID:e2611e0d-aae7-4138-965e-db08fb27ee7b
DTSTAMP:20260425T153245Z
CREATED:20260425T153245Z
SUMMARY:Quizfrage 3631
DESCRIPTION:https://wp.pbcs.de/question/quizfrage-3631/ - Artikel vom: Mo.\, 29. September 2025\, 19:07:27 - Zu welchem Datum reisen sie in Zurück in die Zukunft: Teil II?
LOCATION:https://wp.pbcs.de
CATEGORIES:Gelbe Kategorie
TRANSP:TRANSPARENT
X-MICROSOFT-CDO-BUSYSTATUS:FREE
SEQUENCE:0
CLASS:PUBLIC
PRIORITY:1
DTSTART:20260426T070000Z
DTEND:20260426T080000Z
BEGIN:VALARM
TRIGGER:-PT30M
ACTION:DISPLAY
DESCRIPTION:Reminder for Quizfrage 3631
END:VALARM
END:VEVENT
END:VCALENDAR
