BEGIN:VCALENDAR
VERSION:2.0
METHOD:PUBLISH
PRODID:- PBCS IT-News //NONSGML Events //EN
CALSCALE:GREGORIAN
X-WR-CALNAME:ICAL-BLOG
BEGIN:VEVENT
UID:363f1f88-be58-48cc-872d-b0dcffb016a7
DTSTAMP:20260424T152805Z
CREATED:20260424T152805Z
SUMMARY:Quizfrage 3611
DESCRIPTION:https://wp.pbcs.de/question/quizfrage-3611/ - Artikel vom: Mo.\, 29. September 2025\, 19:07:26 - Welcher Schauspieler hat die Fernsehserie Batman aus den 1960er verantwortet?
LOCATION:https://wp.pbcs.de
CATEGORIES:Gelbe Kategorie
TRANSP:TRANSPARENT
X-MICROSOFT-CDO-BUSYSTATUS:FREE
SEQUENCE:0
CLASS:PUBLIC
PRIORITY:1
DTSTART:20260425T070000Z
DTEND:20260425T080000Z
BEGIN:VALARM
TRIGGER:-PT30M
ACTION:DISPLAY
DESCRIPTION:Reminder for Quizfrage 3611
END:VALARM
END:VEVENT
END:VCALENDAR
