BEGIN:VCALENDAR
VERSION:2.0
METHOD:PUBLISH
PRODID:- PBCS IT-News //NONSGML Events //EN
CALSCALE:GREGORIAN
X-WR-CALNAME:ICAL-BLOG
BEGIN:VEVENT
UID:4f408295-561b-4e8c-82c6-b0ee44979bda
DTSTAMP:20260423T231442Z
CREATED:20260423T231442Z
SUMMARY:Quizfrage 3603
DESCRIPTION:https://wp.pbcs.de/question/quizfrage-3603/ - Artikel vom: Mo.\, 29. September 2025\, 19:07:26 - Wie lang ist Neuseelands Ninety Mile Beach?
LOCATION:https://wp.pbcs.de
CATEGORIES:Gelbe Kategorie
TRANSP:TRANSPARENT
X-MICROSOFT-CDO-BUSYSTATUS:FREE
SEQUENCE:0
CLASS:PUBLIC
PRIORITY:1
DTSTART:20260424T070000Z
DTEND:20260424T080000Z
BEGIN:VALARM
TRIGGER:-PT30M
ACTION:DISPLAY
DESCRIPTION:Reminder for Quizfrage 3603
END:VALARM
END:VEVENT
END:VCALENDAR
