BEGIN:VCALENDAR
VERSION:2.0
METHOD:PUBLISH
PRODID:- PBCS IT-News //NONSGML Events //EN
CALSCALE:GREGORIAN
X-WR-CALNAME:ICAL-BLOG
BEGIN:VEVENT
UID:5cc35e8d-d9a9-4e6e-91c8-4cb8d2a656ac
DTSTAMP:20260425T153407Z
CREATED:20260425T153407Z
SUMMARY:Quizfrage 3600
DESCRIPTION:https://wp.pbcs.de/question/quizfrage-3600/ - Artikel vom: Mo.\, 29. September 2025\, 19:07:25 - Welches Land hat seit 1814 keinen Krieg mehr geführt?
LOCATION:https://wp.pbcs.de
CATEGORIES:Gelbe Kategorie
TRANSP:TRANSPARENT
X-MICROSOFT-CDO-BUSYSTATUS:FREE
SEQUENCE:0
CLASS:PUBLIC
PRIORITY:1
DTSTART:20260426T070000Z
DTEND:20260426T080000Z
BEGIN:VALARM
TRIGGER:-PT30M
ACTION:DISPLAY
DESCRIPTION:Reminder for Quizfrage 3600
END:VALARM
END:VEVENT
END:VCALENDAR
