BEGIN:VCALENDAR
VERSION:2.0
METHOD:PUBLISH
PRODID:- PBCS IT-News //NONSGML Events //EN
CALSCALE:GREGORIAN
X-WR-CALNAME:ICAL-BLOG
BEGIN:VEVENT
UID:51e0e0f0-da1d-4167-a2a3-bc66924fccb5
DTSTAMP:20260425T185639Z
CREATED:20260425T185639Z
SUMMARY:Quizfrage 3595
DESCRIPTION:https://wp.pbcs.de/question/quizfrage-3595/ - Artikel vom: Mo.\, 29. September 2025\, 19:07:25 - Wie heißen die Hautfalten an den Ohren einer Katze?
LOCATION:https://wp.pbcs.de
CATEGORIES:Gelbe Kategorie
TRANSP:TRANSPARENT
X-MICROSOFT-CDO-BUSYSTATUS:FREE
SEQUENCE:0
CLASS:PUBLIC
PRIORITY:1
DTSTART:20260426T070000Z
DTEND:20260426T080000Z
BEGIN:VALARM
TRIGGER:-PT30M
ACTION:DISPLAY
DESCRIPTION:Reminder for Quizfrage 3595
END:VALARM
END:VEVENT
END:VCALENDAR
