BEGIN:VCALENDAR
VERSION:2.0
METHOD:PUBLISH
PRODID:- PBCS IT-News //NONSGML Events //EN
CALSCALE:GREGORIAN
X-WR-CALNAME:ICAL-BLOG
BEGIN:VEVENT
UID:0b2d84e8-c56f-45fb-b997-efe4add51836
DTSTAMP:20260423T061740Z
CREATED:20260423T061740Z
SUMMARY:Quizfrage 3595
DESCRIPTION:https://wp.pbcs.de/question/quizfrage-3595/ - Artikel vom: Mo.\, 29. September 2025\, 19:07:25 - Wie heißen die Hautfalten an den Ohren einer Katze?
LOCATION:https://wp.pbcs.de
CATEGORIES:Gelbe Kategorie
TRANSP:TRANSPARENT
X-MICROSOFT-CDO-BUSYSTATUS:FREE
SEQUENCE:0
CLASS:PUBLIC
PRIORITY:1
DTSTART:20260423T070000Z
DTEND:20260423T080000Z
BEGIN:VALARM
TRIGGER:-PT30M
ACTION:DISPLAY
DESCRIPTION:Reminder for Quizfrage 3595
END:VALARM
END:VEVENT
END:VCALENDAR
