BEGIN:VCALENDAR
VERSION:2.0
METHOD:PUBLISH
PRODID:- PBCS IT-News //NONSGML Events //EN
CALSCALE:GREGORIAN
X-WR-CALNAME:ICAL-BLOG
BEGIN:VEVENT
UID:0bce4c64-4aa1-4c1c-80e4-e38a6cb5d245
DTSTAMP:20260425T032312Z
CREATED:20260425T032312Z
SUMMARY:Quizfrage 3584
DESCRIPTION:https://wp.pbcs.de/question/quizfrage-3584/ - Artikel vom: Mo.\, 29. September 2025\, 19:07:24 - Nennen Sie die größte Insel der Welt.
LOCATION:https://wp.pbcs.de
CATEGORIES:Gelbe Kategorie
TRANSP:TRANSPARENT
X-MICROSOFT-CDO-BUSYSTATUS:FREE
SEQUENCE:0
CLASS:PUBLIC
PRIORITY:1
DTSTART:20260425T070000Z
DTEND:20260425T080000Z
BEGIN:VALARM
TRIGGER:-PT30M
ACTION:DISPLAY
DESCRIPTION:Reminder for Quizfrage 3584
END:VALARM
END:VEVENT
END:VCALENDAR
