BEGIN:VCALENDAR
VERSION:2.0
METHOD:PUBLISH
PRODID:- PBCS IT-News //NONSGML Events //EN
CALSCALE:GREGORIAN
X-WR-CALNAME:ICAL-BLOG
BEGIN:VEVENT
UID:c7e5db1c-ed73-4cbe-8a9f-43a51b42ef4d
DTSTAMP:20260425T115756Z
CREATED:20260425T115756Z
SUMMARY:Quizfrage 3466
DESCRIPTION:https://wp.pbcs.de/question/quizfrage-3466/ - Artikel vom: Mo.\, 29. September 2025\, 19:07:23 - In welchem Land wurde der Panama-Hut erfunden?
LOCATION:https://wp.pbcs.de
CATEGORIES:Gelbe Kategorie
TRANSP:TRANSPARENT
X-MICROSOFT-CDO-BUSYSTATUS:FREE
SEQUENCE:0
CLASS:PUBLIC
PRIORITY:1
DTSTART:20260426T070000Z
DTEND:20260426T080000Z
BEGIN:VALARM
TRIGGER:-PT30M
ACTION:DISPLAY
DESCRIPTION:Reminder for Quizfrage 3466
END:VALARM
END:VEVENT
END:VCALENDAR
