BEGIN:VCALENDAR
VERSION:2.0
METHOD:PUBLISH
PRODID:- PBCS IT-News //NONSGML Events //EN
CALSCALE:GREGORIAN
X-WR-CALNAME:ICAL-BLOG
BEGIN:VEVENT
UID:ee40ae5a-f4c1-4aa6-92f6-0d66a23cb491
DTSTAMP:20260423T082032Z
CREATED:20260423T082032Z
SUMMARY:Quizfrage 3378
DESCRIPTION:https://wp.pbcs.de/question/quizfrage-3378/ - Artikel vom: Mo.\, 29. September 2025\, 19:07:20 - Wo wurde Galileo Galilei am 15. Februar 1564 geboren?
LOCATION:https://wp.pbcs.de
CATEGORIES:Gelbe Kategorie
TRANSP:TRANSPARENT
X-MICROSOFT-CDO-BUSYSTATUS:FREE
SEQUENCE:0
CLASS:PUBLIC
PRIORITY:1
DTSTART:20260423T070000Z
DTEND:20260423T080000Z
BEGIN:VALARM
TRIGGER:-PT30M
ACTION:DISPLAY
DESCRIPTION:Reminder for Quizfrage 3378
END:VALARM
END:VEVENT
END:VCALENDAR
