BEGIN:VCALENDAR
VERSION:2.0
METHOD:PUBLISH
PRODID:- PBCS IT-News //NONSGML Events //EN
CALSCALE:GREGORIAN
X-WR-CALNAME:ICAL-BLOG
BEGIN:VEVENT
UID:d5b1d972-b26f-4e46-b380-65af5c841ac3
DTSTAMP:20260425T131133Z
CREATED:20260425T131133Z
SUMMARY:Quizfrage 3325
DESCRIPTION:https://wp.pbcs.de/question/quizfrage-3325/ - Artikel vom: Mo.\, 29. September 2025\, 19:07:17 - Was ist die Amtssprache Brasiliens?
LOCATION:https://wp.pbcs.de
CATEGORIES:Gelbe Kategorie
TRANSP:TRANSPARENT
X-MICROSOFT-CDO-BUSYSTATUS:FREE
SEQUENCE:0
CLASS:PUBLIC
PRIORITY:1
DTSTART:20260426T070000Z
DTEND:20260426T080000Z
BEGIN:VALARM
TRIGGER:-PT30M
ACTION:DISPLAY
DESCRIPTION:Reminder for Quizfrage 3325
END:VALARM
END:VEVENT
END:VCALENDAR
