BEGIN:VCALENDAR
VERSION:2.0
METHOD:PUBLISH
PRODID:- PBCS IT-News //NONSGML Events //EN
CALSCALE:GREGORIAN
X-WR-CALNAME:ICAL-BLOG
BEGIN:VEVENT
UID:e56ade8e-886f-4af4-bd50-b00fad6852de
DTSTAMP:20260424T020119Z
CREATED:20260424T020119Z
SUMMARY:Quizfrage 3311
DESCRIPTION:https://wp.pbcs.de/question/quizfrage-3311/ - Artikel vom: Mo.\, 29. September 2025\, 19:07:16 - Die Einwohnerzahl Chinas betrug 2019 etwa?
LOCATION:https://wp.pbcs.de
CATEGORIES:Gelbe Kategorie
TRANSP:TRANSPARENT
X-MICROSOFT-CDO-BUSYSTATUS:FREE
SEQUENCE:0
CLASS:PUBLIC
PRIORITY:1
DTSTART:20260424T070000Z
DTEND:20260424T080000Z
BEGIN:VALARM
TRIGGER:-PT30M
ACTION:DISPLAY
DESCRIPTION:Reminder for Quizfrage 3311
END:VALARM
END:VEVENT
END:VCALENDAR
