BEGIN:VCALENDAR
VERSION:2.0
METHOD:PUBLISH
PRODID:- PBCS IT-News //NONSGML Events //EN
CALSCALE:GREGORIAN
X-WR-CALNAME:ICAL-BLOG
BEGIN:VEVENT
UID:faabff40-35d6-4320-afef-82714dd8ce03
DTSTAMP:20260424T100933Z
CREATED:20260424T100933Z
SUMMARY:Quizfrage 3310
DESCRIPTION:https://wp.pbcs.de/question/quizfrage-3310/ - Artikel vom: Mo.\, 29. September 2025\, 19:07:16 - Wann begann die Ausstrahlung des Farbfernsehens in der damaligen BRD?
LOCATION:https://wp.pbcs.de
CATEGORIES:Gelbe Kategorie
TRANSP:TRANSPARENT
X-MICROSOFT-CDO-BUSYSTATUS:FREE
SEQUENCE:0
CLASS:PUBLIC
PRIORITY:1
DTSTART:20260425T070000Z
DTEND:20260425T080000Z
BEGIN:VALARM
TRIGGER:-PT30M
ACTION:DISPLAY
DESCRIPTION:Reminder for Quizfrage 3310
END:VALARM
END:VEVENT
END:VCALENDAR
